BEGIN:VCALENDAR
VERSION:2.0
PRODID:-//Faithful Friends Farm - ECPv6.15.13.1//NONSGML v1.0//EN
CALSCALE:GREGORIAN
METHOD:PUBLISH
X-WR-CALNAME:Faithful Friends Farm
X-ORIGINAL-URL:https://faithfulfriendsfarm.com
X-WR-CALDESC:Events for Faithful Friends Farm
REFRESH-INTERVAL;VALUE=DURATION:PT1H
X-Robots-Tag:noindex
X-PUBLISHED-TTL:PT1H
BEGIN:VTIMEZONE
TZID:America/New_York
BEGIN:DAYLIGHT
TZOFFSETFROM:-0500
TZOFFSETTO:-0400
TZNAME:EDT
DTSTART:20240310T070000
END:DAYLIGHT
BEGIN:STANDARD
TZOFFSETFROM:-0400
TZOFFSETTO:-0500
TZNAME:EST
DTSTART:20241103T060000
END:STANDARD
BEGIN:DAYLIGHT
TZOFFSETFROM:-0500
TZOFFSETTO:-0400
TZNAME:EDT
DTSTART:20250309T070000
END:DAYLIGHT
BEGIN:STANDARD
TZOFFSETFROM:-0400
TZOFFSETTO:-0500
TZNAME:EST
DTSTART:20251102T060000
END:STANDARD
BEGIN:DAYLIGHT
TZOFFSETFROM:-0500
TZOFFSETTO:-0400
TZNAME:EDT
DTSTART:20260308T070000
END:DAYLIGHT
BEGIN:STANDARD
TZOFFSETFROM:-0400
TZOFFSETTO:-0500
TZNAME:EST
DTSTART:20261101T060000
END:STANDARD
END:VTIMEZONE
BEGIN:VEVENT
DTSTART;TZID=America/New_York:20250322T100000
DTEND;TZID=America/New_York:20250322T140000
DTSTAMP:20260424T040213
CREATED:20250114T230710Z
LAST-MODIFIED:20250114T230950Z
UID:2471-1742637600-1742652000@faithfulfriendsfarm.com
SUMMARY:"New Year\, New You" Workshop Series - Probiotics
DESCRIPTION:“New Year\, New You” Workshop Series\nProbiotics Workshop\n  \n\n\nWe will milk\, make yogurt\, make kombucha and learn the importance of a healthy gut. \nWe are now signing people up for our March 22\, 2025\, workshop! This is a hands-on workshop. \n\n\n\n\n\n👩‍🌾 It will be held at Faithful Friends Farm on March 22nd from 10 until 2 pm. Please allow a little extra time\, it sometimes runs over\, although I’m not expecting that this time. \nThen we will have lunch. During lunch\, we will have Q and A and discuss whatever you all would like to talk about.\n👥 ️It’s always a super fun and informative day. We always make new friends. You will also go home having learned something. It truly is a great experience. \nIt is $75 per person. Payment is taken at the time of signup. Workshops are one of my favorite things we do\, but also the money raised gets us through the “off” season. It helps us to pay for animal feed and other winter expenses. You can sign up easily over text or Messenger with Venmo or PayPal. Or you can stop by the farm to sign up in person. \nThank you everyone! I’m very much looking forward to the “New Year\, New You” workshop series!\nIf you’d like to reserve your spot message me here or TEXT me at 443-889-6000. \n\n\n\n\n\n\n#onfarmworkshops #cheesemakingworkshop #handsonlearning
URL:https://faithfulfriendsfarm.com/event/new-year-new-you-workshop-series-probiotics/
LOCATION:Faithful Friends Farm\, 4625 Old Hanover Road\, Westminster\, Maryland\, 21158
CATEGORIES:Workshop
ATTACH;FMTTYPE=image/webp:https://faithfulfriendsfarm.com/wp-content/uploads/IMG_20231230_192642_585faithfulfriendsfarmworkshop.webp
ORGANIZER;CN="Connie":MAILTO:faithfulfriendsfarm@gmail.com
END:VEVENT
BEGIN:VEVENT
DTSTART;TZID=America/New_York:20250329T100000
DTEND;TZID=America/New_York:20250329T130000
DTSTAMP:20260424T040213
CREATED:20250308T154415Z
LAST-MODIFIED:20250308T163501Z
UID:2650-1743242400-1743253200@faithfulfriendsfarm.com
SUMMARY:"Mommy (or Daddy) and Me" - March 29\, 2025
DESCRIPTION:Our First Ever “Mommy and Me” Workshop\n\n🍕🐄 Mommy & Me Farm & Pizza Workshop! 🐐🍕 \n📅 Date: March 29th\n⏰ Time: 10:00 AM\n📍 Location: Faithful Friends Farm \nJoin us for our first-ever “Mommy & Me” Workshop—a fun-filled\, hands-on farm experience designed for kids ages 4 to 8 (or younger with parent discretion)! \n👩‍👧‍👦 What’s Included?\n✅ Make your own pizza dough from scratch 🍞\n✅ Milk a cow—an unforgettable farm experience! 🐄\n✅ Create fresh mozzarella from farm-fresh milk 🧀\n✅ Build & bake your very own pizza for lunch 🍕\n✅ Meet & play with our adorable baby goats and other farm animals 🐐🐰 \n👨‍👩‍👧‍👦 Limited Spots Available!\n💰 Cost: $100 per parent & child pair\n🚨 Space is limited—reserve your spot before it fills up! \nCome make lasting memories\, learn about farm life\, and enjoy a delicious homemade pizza together! ❤️ \n📩 Sign up now! Email \n\n\n\n\nIt is $100 per parent and child pair. Payment is taken at the time of signup. Workshops are one of my favorite things we do\, but also the money raised gets us through the “off” season. It helps us to pay for animal feed and other winter expenses. You can sign up easily over text or Messenger with Venmo or PayPal. Or you can stop by the farm to sign up in person. \nThank you everyone! I’m very much looking forward to the “Mommy and Me” workshop!\nIf you’d like to reserve your spot message me here or TEXT me at 443-889-6000. \n\n\n\n\n\n\n#onfarmworkshops #cheesemakingworkshop #handsonlearning
URL:https://faithfulfriendsfarm.com/event/mommy-or-daddy-and-me-march-29-2025/
LOCATION:Faithful Friends Farm\, 4625 Old Hanover Road\, Westminster\, Maryland\, 21158
CATEGORIES:Workshop
ATTACH;FMTTYPE=image/jpeg:https://faithfulfriendsfarm.com/wp-content/uploads/MommyAndMePhoto.jpg
ORGANIZER;CN="Connie":MAILTO:faithfulfriendsfarm@gmail.com
END:VEVENT
END:VCALENDAR