BEGIN:VCALENDAR
VERSION:2.0
PRODID:-//Faithful Friends Farm - ECPv6.15.13.1//NONSGML v1.0//EN
CALSCALE:GREGORIAN
METHOD:PUBLISH
X-ORIGINAL-URL:https://faithfulfriendsfarm.com
X-WR-CALDESC:Events for Faithful Friends Farm
REFRESH-INTERVAL;VALUE=DURATION:PT1H
X-Robots-Tag:noindex
X-PUBLISHED-TTL:PT1H
BEGIN:VTIMEZONE
TZID:America/New_York
BEGIN:DAYLIGHT
TZOFFSETFROM:-0500
TZOFFSETTO:-0400
TZNAME:EDT
DTSTART:20250309T070000
END:DAYLIGHT
BEGIN:STANDARD
TZOFFSETFROM:-0400
TZOFFSETTO:-0500
TZNAME:EST
DTSTART:20251102T060000
END:STANDARD
BEGIN:DAYLIGHT
TZOFFSETFROM:-0500
TZOFFSETTO:-0400
TZNAME:EDT
DTSTART:20260308T070000
END:DAYLIGHT
BEGIN:STANDARD
TZOFFSETFROM:-0400
TZOFFSETTO:-0500
TZNAME:EST
DTSTART:20261101T060000
END:STANDARD
BEGIN:DAYLIGHT
TZOFFSETFROM:-0500
TZOFFSETTO:-0400
TZNAME:EDT
DTSTART:20270314T070000
END:DAYLIGHT
BEGIN:STANDARD
TZOFFSETFROM:-0400
TZOFFSETTO:-0500
TZNAME:EST
DTSTART:20271107T060000
END:STANDARD
END:VTIMEZONE
BEGIN:VEVENT
DTSTART;TZID=America/New_York:20260111T100000
DTEND;TZID=America/New_York:20260111T140000
DTSTAMP:20260423T152917
CREATED:20251216T191543Z
LAST-MODIFIED:20260128T225359Z
UID:2766-1768125600-1768140000@faithfulfriendsfarm.com
SUMMARY:Cheese Making Workshop 2025
DESCRIPTION:We are now signing people up for our January 25th\, 2025\, workshop! This is a hands-on workshop.\n\n\n\n\n\n👩‍🌾 It will be held at Faithful Friends Farm on January 25th from 10 until 2 pm. Please allow a little extra time\, it sometimes runs over\, although I’m not expecting that this time. \n🐄 We will start off the class milking a cow! Everyone will get a chance to milk her. Then when everyone has had a chance\, I’ll finish her off with the milk machine. \n🧀 Next\, we will all make mozzarella cheese together. Everyone will help with stretching the cheese. We will wear gloves\, it’s a little hot 🔥 \nJolie McShane is a friend\, a long-time customer\, and a health coach. She will be teaching about animal fats and their benefits. We will teach you how to easily render tallow and lard. \n🧀🥚🍳 We will teach you a couple of easy recipes and all make a meal together using tallow\, lard\, and our mozzarella cheese 😊 \nThen we will have lunch. During lunch\, we will have Q and A and discuss whatever you all would like to talk about.\n👥 ️It’s always a super fun and informative day. We always make new friends. You will also go home having learned something. It truly is a great experience. \nIt is $75 per person. Payment is taken at the time of signup. Workshops are one of my favorite things we do\, but also the money raised gets us through the “off” season. It helps us to pay for animal feed and other winter expenses. You can sign up easily over text or Messenger with Venmo or PayPal. Or you can stop by the farm to sign up in person. \nThank you everyone! I’m very much looking forward to the “New Year\, New You” workshop series!\nIf you’d like to reserve your spot message me here or TEXT me at 443-889-6000. \n\n\n\n\n\n\n#onfarmworkshops #cheesemakingworkshop #handsonlearning
URL:https://faithfulfriendsfarm.com/event/cheese-making-workshop-2025/
LOCATION:Faithful Friends Farm\, 4625 Old Hanover Road\, Westminster\, Maryland\, 21158
CATEGORIES:Workshop
ATTACH;FMTTYPE=image/jpeg:https://faithfulfriendsfarm.com/wp-content/uploads/FB_IMG_1705804868742faithfulfriendsfarmworkshop.jpg
ORGANIZER;CN="Connie":MAILTO:faithfulfriendsfarm@gmail.com
END:VEVENT
END:VCALENDAR