BEGIN:VCALENDAR
VERSION:2.0
PRODID:-//Faithful Friends Farm - ECPv6.15.13.1//NONSGML v1.0//EN
CALSCALE:GREGORIAN
METHOD:PUBLISH
X-WR-CALNAME:Faithful Friends Farm
X-ORIGINAL-URL:https://faithfulfriendsfarm.com
X-WR-CALDESC:Events for Faithful Friends Farm
REFRESH-INTERVAL;VALUE=DURATION:PT1H
X-Robots-Tag:noindex
X-PUBLISHED-TTL:PT1H
BEGIN:VTIMEZONE
TZID:America/New_York
BEGIN:DAYLIGHT
TZOFFSETFROM:-0500
TZOFFSETTO:-0400
TZNAME:EDT
DTSTART:20230312T070000
END:DAYLIGHT
BEGIN:STANDARD
TZOFFSETFROM:-0400
TZOFFSETTO:-0500
TZNAME:EST
DTSTART:20231105T060000
END:STANDARD
BEGIN:DAYLIGHT
TZOFFSETFROM:-0500
TZOFFSETTO:-0400
TZNAME:EDT
DTSTART:20240310T070000
END:DAYLIGHT
BEGIN:STANDARD
TZOFFSETFROM:-0400
TZOFFSETTO:-0500
TZNAME:EST
DTSTART:20241103T060000
END:STANDARD
BEGIN:DAYLIGHT
TZOFFSETFROM:-0500
TZOFFSETTO:-0400
TZNAME:EDT
DTSTART:20250309T070000
END:DAYLIGHT
BEGIN:STANDARD
TZOFFSETFROM:-0400
TZOFFSETTO:-0500
TZNAME:EST
DTSTART:20251102T060000
END:STANDARD
END:VTIMEZONE
BEGIN:VEVENT
DTSTART;TZID=America/New_York:20240316T100000
DTEND;TZID=America/New_York:20240316T140000
DTSTAMP:20260423T165957
CREATED:20240129T180747Z
LAST-MODIFIED:20240129T184317Z
UID:2070-1710583200-1710597600@faithfulfriendsfarm.com
SUMMARY:Winter Wellness on the Farm Series - Sourdough Bread Workshop
DESCRIPTION:Winter Wellness on the Farm Series\nProbiotic Workshop\n\n\n\nThese workshops have been so much fun to teach\, I’m so happy we are doing these.\n  \n\n\n\nOur friend Lilly Roos will be teaching us how to make the most perfect loaves of sourdough bread. Lilly has sold her delicious bread at several of our farm events. So many of you have tried her product. I can only hope to be half as good as her someday. I would title her an artisan\, although she’s much more humble than that. We will start the class out by milking Mocha\, we will also filter and bottle it. Next\, we will learn how to make butter and mozzarella. We will move on to the subject of sourdough. Lilly will teach us the benefits of sourdough and she will teach us how she makes the perfect loaf. After we will have a lite lunch. You probably guessed it\, we will have sourdough topped with butter and mozzarella for lunch. So if you’ve been longing to learn how to make the most perfect loaf of sourdough\, then this is that.\n\n  \n\n\nEach one of these classes is a wealth of knowledge and a really cool experience. So get some friends together and make some plans. Each class is $75 per person which is due at signup. We take Venmo or PayPal or you can sign up in person at the farm. I encourage yall\, if you are interested in any of these\, to sign up soon. I’m so excited to share this knowledge and experience with all of you. Thank you Connie \n  \n\n\n\nPlease share if you might have friends whom these would interest. Also please text me at 443-889-6000 or message me here if you’d like to sign up or have ANY questions.
URL:https://faithfulfriendsfarm.com/event/winter-wellness-on-the-farm-series-sourdough-bread-workshop/
LOCATION:Faithful Friends Farm\, 4625 Old Hanover Road\, Westminster\, Maryland\, 21158
CATEGORIES:Workshop
ATTACH;FMTTYPE=image/webp:https://faithfulfriendsfarm.com/wp-content/uploads/IMG_20231230_192642_585faithfulfriendsfarmworkshop.webp
ORGANIZER;CN="Connie":MAILTO:faithfulfriendsfarm@gmail.com
END:VEVENT
BEGIN:VEVENT
DTSTART;TZID=America/New_York:20240302T100000
DTEND;TZID=America/New_York:20240302T140000
DTSTAMP:20260423T165957
CREATED:20240129T174947Z
LAST-MODIFIED:20240129T180153Z
UID:2061-1709373600-1709388000@faithfulfriendsfarm.com
SUMMARY:Winter Wellness on the Farm Series - Probiotic Workshop
DESCRIPTION:Winter Wellness on the Farm SeriesProbiotic Workshop\n\n\n\nThese workshops have been so much fun to teach\, I’m so happy we are doing these.\n\n\n\n\nOur friend\, long-time customer\, and certified integrative nutrition health coach Jolie McShane will be joining us to teach on the subject of “probiotics”. We will start the class by learning how to milk the cow. Everyone who wants to will be able to give it a try. We will then learn the proper handling and cleaning techniques for raw milk. Next\, we will learn how to make yogurt at home and learn how to make homemade sauerkraut. Jolie will teach on the subject of probiotics and why they are so beneficial to a healthy lifestyle. She will then show us how to handle and “raise” kombucha at home. We will also enjoy a kombucha smoothie as our lite refreshment. Everyone will get a kombucha starter to take home with them. If you want to learn more on the subject of gut health\, then this one is for you!\n\n \n\n\nEach one of these classes is a wealth of knowledge and a really cool experience. So get some friends together and make some plans. Each class is $75 per person which is due at signup. We take Venmo or PayPal or you can sign up in person at the farm. I encourage yall\, if you are interested in any of these\, to sign up soon. I’m so excited to share this knowledge and experience with all of you. Thank you Connie \n \n\n\n\nPlease share if you might have friends whom these would interest. Also please text me at 443-889-6000 or message me here if you’d like to sign up or have ANY questions.
URL:https://faithfulfriendsfarm.com/event/winter-wellness-on-the-farm-series-probiotic-workshop/
LOCATION:Faithful Friends Farm\, 4625 Old Hanover Road\, Westminster\, Maryland\, 21158
CATEGORIES:Workshop
ATTACH;FMTTYPE=image/webp:https://faithfulfriendsfarm.com/wp-content/uploads/IMG_20240120_230543_662faithfulfriendsfarmworkshop.webp
ORGANIZER;CN="Connie":MAILTO:faithfulfriendsfarm@gmail.com
END:VEVENT
BEGIN:VEVENT
DTSTART;TZID=America/New_York:20240210T100000
DTEND;TZID=America/New_York:20240210T140000
DTSTAMP:20260423T165957
CREATED:20240129T170859Z
LAST-MODIFIED:20240129T175815Z
UID:2039-1707559200-1707573600@faithfulfriendsfarm.com
SUMMARY:Winter Wellness on the Farm - Clean Living Workshop
DESCRIPTION:Winter Wellness on the Farm – Clean Living Workshop\n\n\n\nThese workshops have been so much fun to teach\, I’m so happy we are doing these.\n\n \n\n\nOur friend Wendy Massey RN\, holistic nutrition specialist and author will be joining us to teach on the subject of “Clean Living”. We will start the class by learning how to milk a cow. We will then learn an easy method to make mozzarella cheese at home with simple tools. We will then learn how to make a “clean” deep-dish pizza and “clean” brownies for lunch. We will be using the mozzarella we make on the pizza we make for lunch! Wendy will also teach on the subject of clean living and what that really means. We will finish the day off with visiting the animals. This will be a very informative class that will help direct you to a cleaner and healthier lifestyle. To help and understand this subject I encourage you to check out Wendy Sue Massey’s group Simplify Clean Eating. That way you can see if this is for you. You will also get a hard copy of Wendy’s book to take home with you!\n\n\n\n\nEach one of these classes is a wealth of knowledge and a really cool experience. So get some friends together and make some plans. Each class is $75 per person which is due at signup. We take Venmo or PayPal or you can sign up in person at the farm. I encourage yall\, if you are interested in any of these\, to sign up soon. I’m so excited to share this knowledge and experience with all of you. Thank you Connie \n\n \n\n\nPlease share if you might have friends whom these would interest. Also please text me at 443-889-6000 or message me here if you’d like to sign up or have ANY questions.
URL:https://faithfulfriendsfarm.com/event/winter-wellness-on-the-farm-clean-living-workshop/
LOCATION:Faithful Friends Farm\, 4625 Old Hanover Road\, Westminster\, Maryland\, 21158
CATEGORIES:Workshop
ATTACH;FMTTYPE=image/jpeg:https://faithfulfriendsfarm.com/wp-content/uploads/421678029_905913554871344_1545785858993733909_nfaithfulfriendsfarmworkshop.jpg
ORGANIZER;CN="Connie":MAILTO:faithfulfriendsfarm@gmail.com
END:VEVENT
END:VCALENDAR