BEGIN:VCALENDAR
VERSION:2.0
PRODID:-//Faithful Friends Farm - ECPv6.15.13.1//NONSGML v1.0//EN
CALSCALE:GREGORIAN
METHOD:PUBLISH
X-WR-CALNAME:Faithful Friends Farm
X-ORIGINAL-URL:https://faithfulfriendsfarm.com
X-WR-CALDESC:Events for Faithful Friends Farm
REFRESH-INTERVAL;VALUE=DURATION:PT1H
X-Robots-Tag:noindex
X-PUBLISHED-TTL:PT1H
BEGIN:VTIMEZONE
TZID:America/New_York
BEGIN:DAYLIGHT
TZOFFSETFROM:-0500
TZOFFSETTO:-0400
TZNAME:EDT
DTSTART:20240310T070000
END:DAYLIGHT
BEGIN:STANDARD
TZOFFSETFROM:-0400
TZOFFSETTO:-0500
TZNAME:EST
DTSTART:20241103T060000
END:STANDARD
BEGIN:DAYLIGHT
TZOFFSETFROM:-0500
TZOFFSETTO:-0400
TZNAME:EDT
DTSTART:20250309T070000
END:DAYLIGHT
BEGIN:STANDARD
TZOFFSETFROM:-0400
TZOFFSETTO:-0500
TZNAME:EST
DTSTART:20251102T060000
END:STANDARD
BEGIN:DAYLIGHT
TZOFFSETFROM:-0500
TZOFFSETTO:-0400
TZNAME:EDT
DTSTART:20260308T070000
END:DAYLIGHT
BEGIN:STANDARD
TZOFFSETFROM:-0400
TZOFFSETTO:-0500
TZNAME:EST
DTSTART:20261101T060000
END:STANDARD
END:VTIMEZONE
BEGIN:VEVENT
DTSTART;TZID=America/New_York:20250405T100000
DTEND;TZID=America/New_York:20250405T140000
DTSTAMP:20260424T035032
CREATED:20250114T231257Z
LAST-MODIFIED:20250308T163419Z
UID:2476-1743847200-1743861600@faithfulfriendsfarm.com
SUMMARY:"New Year\, New You" Farm-Fresh Mozzarella & Wellness Workshop - April 5th
DESCRIPTION:“New Year\, New You” Workshop Series\n🐄🧀 Farm-Fresh Mozzarella & Wellness Workshop! 🍽️🌿 \n\n\nWe are now signing people up for our April 5\, 2025\, workshop! This is a hands-on workshop. \n\n\n\n\n\n\n\n\n\n\nGet ready for a one-of-a-kind farm-to-table experience! 🌱✨ \n🔹 Exclusive health & wellness session with the amazing Wendy Sue Massey—she’ll surprise us with an insightful topic! 🧘‍♀️💡 \n🔹 Milk Mocha the cow 🐄—a hands-on experience you won’t forget!🔹 Make fresh\, creamy mozzarella 🧀 from scratch!\n🔹 Enjoy a delicious\, clean lunch 🍽️ prepared by Wendy Sue\, featuring the mozzarella we make together! \n\n\n\n\n\n\n\n\n\n👩‍🌾 It will be held at Faithful Friends Farm on April 5th from 10 until 2 pm. Please allow a little extra time\, it sometimes runs over\, although I’m not expecting that this time. \n\n\n\n\nDuring lunch\, we will have Q and A and discuss whatever you all would like to talk about.\n👥 ️It’s always a super fun and informative day. We always make new friends. You will also go home having learned something. It truly is a great experience. \nIt is $75 per person. Payment is taken at the time of signup. Workshops are one of my favorite things we do\, but also the money raised gets us through the “off” season. It helps us to pay for animal feed and other winter expenses. You can sign up easily over text or Messenger with Venmo or PayPal. Or you can stop by the farm to sign up in person. \nThank you everyone! I’m very much looking forward to the “New Year\, New You” workshop series!\nIf you’d like to reserve your spot message me here or TEXT me at 443-889-6000. \n\n\n\n\n\n\n#onfarmworkshops #cheesemakingworkshop #handsonlearning
URL:https://faithfulfriendsfarm.com/event/new-year-new-you-farm-fresh-mozzarella-wellness-workshop-april-5th/
LOCATION:Faithful Friends Farm\, 4625 Old Hanover Road\, Westminster\, Maryland\, 21158
CATEGORIES:Workshop
ATTACH;FMTTYPE=image/jpeg:https://faithfulfriendsfarm.com/wp-content/uploads/FB_IMG_1705804853354faithfulfriendsfarmworkshop.jpg
ORGANIZER;CN="Connie":MAILTO:faithfulfriendsfarm@gmail.com
END:VEVENT
BEGIN:VEVENT
DTSTART;TZID=America/New_York:20250426T100000
DTEND;TZID=America/New_York:20250426T140000
DTSTAMP:20260424T035032
CREATED:20250114T231417Z
LAST-MODIFIED:20250308T161457Z
UID:2479-1745661600-1745676000@faithfulfriendsfarm.com
SUMMARY:"New Year\, New You" Farm and Fungi Workshop - April 26
DESCRIPTION:“New Year\, New You” Workshop Series\n\n\nWe are now signing people up for our April 26\, 2025\, workshop! This is a hands-on workshop. \n\n🌳🦁🍝 Farm and Fungi Workshop! 🍄🥛 \nJoin us for a hands-on\, nature-inspired workshop where we blend farm-fresh ingredients\, culinary skills\, and wellness wisdom into one unforgettable experience! \n✨ What’s in store? ✨\n🐄 Milk the cow and use fresh milk for our meal!\n🌳 Inoculate maple trees with lion’s mane mushroom spores—a unique way to grow your own gourmet mushrooms!\n🍝 Make fresh spaghetti from scratch and prepare a creamy\, farm-fresh sauce using the milk we collect!\n🧠 Discover the amazing benefits of lion’s mane mushrooms—a natural boost for brain health & immunity!\n💡 Special wellness session with Jolie McShane—she’ll be sharing valuable health insights! \n🌟 Limited Spots Available! 🌟\n💰 Cost: $75 per person\n🚨 Space is filling fast—reserve your spot today! \n👩‍🌾 It will be held at Faithful Friends Farm on April 26th from 10 until 2 pm. Please allow a little extra time\, it sometimes runs over\, although I’m not expecting that this time. \n\n\n\n\nThen we will have lunch. During lunch\, we will have Q and A and discuss whatever you all would like to talk about.\n👥 ️It’s always a super fun and informative day. We always make new friends. You will also go home having learned something. It truly is a great experience. \nIt is $75 per person. Payment is taken at the time of signup. Workshops are one of my favorite things we do\, but also the money raised gets us through the “off” season. It helps us to pay for animal feed and other winter expenses. You can sign up easily over text or Messenger with Venmo or PayPal. Or you can stop by the farm to sign up in person. \nThank you everyone! I’m very much looking forward to the “New Year\, New You” workshop series!\nIf you’d like to reserve your spot message me here or TEXT me at 443-889-6000. \n\n\n\n\n\n\n#onfarmworkshops #cheesemakingworkshop #handsonlearning
URL:https://faithfulfriendsfarm.com/event/new-year-new-you-farm-and-fungi-workshop-april-26/
LOCATION:Faithful Friends Farm\, 4625 Old Hanover Road\, Westminster\, Maryland\, 21158
CATEGORIES:Workshop
ATTACH;FMTTYPE=image/jpeg:https://faithfulfriendsfarm.com/wp-content/uploads/Shiitake.jpg
ORGANIZER;CN="Connie":MAILTO:faithfulfriendsfarm@gmail.com
END:VEVENT
END:VCALENDAR