BEGIN:VCALENDAR
VERSION:2.0
PRODID:-//Faithful Friends Farm - ECPv6.15.13.1//NONSGML v1.0//EN
CALSCALE:GREGORIAN
METHOD:PUBLISH
X-WR-CALNAME:Faithful Friends Farm
X-ORIGINAL-URL:https://faithfulfriendsfarm.com
X-WR-CALDESC:Events for Faithful Friends Farm
REFRESH-INTERVAL;VALUE=DURATION:PT1H
X-Robots-Tag:noindex
X-PUBLISHED-TTL:PT1H
BEGIN:VTIMEZONE
TZID:America/New_York
BEGIN:DAYLIGHT
TZOFFSETFROM:-0500
TZOFFSETTO:-0400
TZNAME:EDT
DTSTART:20250309T070000
END:DAYLIGHT
BEGIN:STANDARD
TZOFFSETFROM:-0400
TZOFFSETTO:-0500
TZNAME:EST
DTSTART:20251102T060000
END:STANDARD
BEGIN:DAYLIGHT
TZOFFSETFROM:-0500
TZOFFSETTO:-0400
TZNAME:EDT
DTSTART:20260308T070000
END:DAYLIGHT
BEGIN:STANDARD
TZOFFSETFROM:-0400
TZOFFSETTO:-0500
TZNAME:EST
DTSTART:20261101T060000
END:STANDARD
BEGIN:DAYLIGHT
TZOFFSETFROM:-0500
TZOFFSETTO:-0400
TZNAME:EDT
DTSTART:20270314T070000
END:DAYLIGHT
BEGIN:STANDARD
TZOFFSETFROM:-0400
TZOFFSETTO:-0500
TZNAME:EST
DTSTART:20271107T060000
END:STANDARD
END:VTIMEZONE
BEGIN:VEVENT
DTSTART;TZID=America/New_York:20260516T100000
DTEND;TZID=America/New_York:20260516T140000
DTSTAMP:20260423T131538
CREATED:20260128T223103Z
LAST-MODIFIED:20260208T152340Z
UID:2961-1778925600-1778940000@faithfulfriendsfarm.com
SUMMARY:Herbal Workshop
DESCRIPTION:Herbal Workshop: Farm Walk + Salves + Tinctures\nSaturday\, May 16 | 10:00 AM – 2:00 PM\nFaithful Friends Farm (Westminster\, MD) \nAbout This Workshop\nOne of our all-time favorite workshops! We’ll start with a guided farm walk to learn and harvest herbs right from the farm. Then we’ll head back to create a few powerful\, natural remedies you can use at home. \nWhat We’ll Do\n\nFarm walk + herb harvesting on the property\nMake an all-natural\, skin-soothing\, nourishing herbal salve\nLearn to make a couple of medicinal tinctures/tonics\nTalk about why avoiding toxic chemicals in home products matters\nLearn simple\, healthy alternatives you can start using right away\n\nYou’ll Take Home\n\n\nThe tincture(s) and tonic you make\nYour handmade herbal salve\n\nGood to Know\n\nNo meal is included for this workshop.\n\nPricing\n$100 per person (payment due at sign-up) \nPayment Options\nWe accept Zelle\, Venmo\, PayPal\, or Cash App.\nYou can also stop by the farm with cash if you prefer. \nSign Up / Questions\nText: (443) 889-6000\nEmail: faithfulfriendsfarm@gmail.com
URL:https://faithfulfriendsfarm.com/event/herbal-workshop/
LOCATION:Faithful Friends Farm\, 4625 Old Hanover Road\, Westminster\, Maryland\, 21158
CATEGORIES:Workshop
ATTACH;FMTTYPE=image/jpeg:https://faithfulfriendsfarm.com/wp-content/uploads/herbalworkshop-Custom.jpg
ORGANIZER;CN="Connie":MAILTO:faithfulfriendsfarm@gmail.com
END:VEVENT
END:VCALENDAR