BEGIN:VCALENDAR
VERSION:2.0
PRODID:-//Faithful Friends Farm - ECPv6.15.13.1//NONSGML v1.0//EN
CALSCALE:GREGORIAN
METHOD:PUBLISH
X-ORIGINAL-URL:https://faithfulfriendsfarm.com
X-WR-CALDESC:Events for Faithful Friends Farm
REFRESH-INTERVAL;VALUE=DURATION:PT1H
X-Robots-Tag:noindex
X-PUBLISHED-TTL:PT1H
BEGIN:VTIMEZONE
TZID:America/New_York
BEGIN:DAYLIGHT
TZOFFSETFROM:-0500
TZOFFSETTO:-0400
TZNAME:EDT
DTSTART:20250309T070000
END:DAYLIGHT
BEGIN:STANDARD
TZOFFSETFROM:-0400
TZOFFSETTO:-0500
TZNAME:EST
DTSTART:20251102T060000
END:STANDARD
BEGIN:DAYLIGHT
TZOFFSETFROM:-0500
TZOFFSETTO:-0400
TZNAME:EDT
DTSTART:20260308T070000
END:DAYLIGHT
BEGIN:STANDARD
TZOFFSETFROM:-0400
TZOFFSETTO:-0500
TZNAME:EST
DTSTART:20261101T060000
END:STANDARD
BEGIN:DAYLIGHT
TZOFFSETFROM:-0500
TZOFFSETTO:-0400
TZNAME:EDT
DTSTART:20270314T070000
END:DAYLIGHT
BEGIN:STANDARD
TZOFFSETFROM:-0400
TZOFFSETTO:-0500
TZNAME:EST
DTSTART:20271107T060000
END:STANDARD
END:VTIMEZONE
BEGIN:VEVENT
DTSTART;TZID=America/New_York:20260426T100000
DTEND;TZID=America/New_York:20260426T140000
DTSTAMP:20260423T120234
CREATED:20260128T225845Z
LAST-MODIFIED:20260208T152245Z
UID:2804-1777197600-1777212000@faithfulfriendsfarm.com
SUMMARY:Raw Milk Workshop
DESCRIPTION:Raw Milk Workshop: Milking + Homemade Dairy (with Light Lunch!)\nSunday\, April 26 | 10:00 AM – 2:00 PM\nFaithful Friends Farm (Westminster\, MD) \nAbout This Workshop\nJoin us for a hands-on day at Faithful Friends Farm where we’ll milk the cow and turn fresh milk into a variety of delicious dairy staples. You’ll learn the how and the why—plus we’ll enjoy a light lunch featuring the items we make together. \nWhat We’ll Do\n\nMilk the cow (hands-on learning)\nMake ricotta cheese\nMake butter\nMake mozzarella cheese\nMake sour cream\nEnjoy a light lunch featuring the dairy items we make\n\nMini Teaching: Why Raw Milk?\nJolie will teach on one of our favorite subjects—raw milk and the benefits of adding it to your diet. It’s amazing stuff. \nYou’ll Take Home\n\nA special gift to take home with you\n\nPricing\n$75 per person (payment due at sign-up) \nPayment Options\nWe accept Zelle\, PayPal\, Venmo\, or Cash App.\nYou can also stop by the farm and pay with cash if you prefer. \nSign Up / Questions\nText or Call Connie: (443) 889-6000 \n\n\n\n\n\n\n\n#onfarmworkshops #cheesemakingworkshop #handsonlearning
URL:https://faithfulfriendsfarm.com/event/raw-milk-workshop/
LOCATION:Faithful Friends Farm\, 4625 Old Hanover Road\, Westminster\, Maryland\, 21158
CATEGORIES:Workshop
ATTACH;FMTTYPE=image/jpeg:https://faithfulfriendsfarm.com/wp-content/uploads/cheesemakingworkshop.jpg
ORGANIZER;CN="Connie":MAILTO:faithfulfriendsfarm@gmail.com
END:VEVENT
END:VCALENDAR